BEGIN:VCALENDAR
VERSION:2.0
PRODID:-//Greensboro&#039;s Original Since 1983 - ECPv6.15.20//NONSGML v1.0//EN
CALSCALE:GREGORIAN
METHOD:PUBLISH
X-ORIGINAL-URL:https://acmecomics.com
X-WR-CALDESC:Events for Greensboro&#039;s Original Since 1983
REFRESH-INTERVAL;VALUE=DURATION:PT1H
X-Robots-Tag:noindex
X-PUBLISHED-TTL:PT1H
BEGIN:VTIMEZONE
TZID:America/New_York
BEGIN:DAYLIGHT
TZOFFSETFROM:-0500
TZOFFSETTO:-0400
TZNAME:EDT
DTSTART:20250309T070000
END:DAYLIGHT
BEGIN:STANDARD
TZOFFSETFROM:-0400
TZOFFSETTO:-0500
TZNAME:EST
DTSTART:20251102T060000
END:STANDARD
BEGIN:DAYLIGHT
TZOFFSETFROM:-0500
TZOFFSETTO:-0400
TZNAME:EDT
DTSTART:20260308T070000
END:DAYLIGHT
BEGIN:STANDARD
TZOFFSETFROM:-0400
TZOFFSETTO:-0500
TZNAME:EST
DTSTART:20261101T060000
END:STANDARD
BEGIN:DAYLIGHT
TZOFFSETFROM:-0500
TZOFFSETTO:-0400
TZNAME:EDT
DTSTART:20270314T070000
END:DAYLIGHT
BEGIN:STANDARD
TZOFFSETFROM:-0400
TZOFFSETTO:-0500
TZNAME:EST
DTSTART:20271107T060000
END:STANDARD
END:VTIMEZONE
BEGIN:VEVENT
DTSTART;TZID=America/New_York:20260425T120000
DTEND;TZID=America/New_York:20260425T170000
DTSTAMP:20260420T210543
CREATED:20260420T194428Z
LAST-MODIFIED:20260420T194428Z
UID:67700-1777118400-1777136400@acmecomics.com
SUMMARY:SATURDAY APRIL 25 2026: ANDREW MACLEAN MEET & GREET
DESCRIPTION:Celebrate\n10 YEARS of HEAD LOPPER \nwith series creator\nANDREW MACLEAN!\n\n\n \n \nHEAD LOPPER is an award-winning high energy action fantasy adventure series with a dash of dark humor written and drawn by ANDREW MACLEAN with brilliant colors by MIKE SPICER and JORDIE BELLAIRE. \nIn addition to Head Lopper Andrew is writer and cover artist of \nDEATH FIGHT FOREVER\, a nod to classic video game style action and storytelling from IMAGE COMICS currently releasing now. Plus\, Andrew has provided a number of VARIANT EDITION COVERS for series like ABSOLUTE FLASH\, NEWS FROM THE FALLOUT\, LUCKY DEVILS\, MASTERS OF THE UNIVERSE\, and short stories for MIGHTY THOR 700\, and DC ALL IN: NEW GODS! \nAndrew is also a fan of all things KAIJU and wrote the GODZILLA WAR FOR HUMANITY series and is the originator of the new Kaiju ZOOSPORA.\n \n\n\nHEAD LOPPER\nQUARTERLY ADVENTURE COMIC \nThis WEDNESDAY\, the title character NORGAL and the severed\, but very active\, head of AGATHA THE BLUE WITCH return for a new reader friendly volume from IMAGE COMICS! \nIf you like barbarian activity like what could happen in Conan comics and encounters with legendary creatures like what you could find in Hellboy comics\, then Head Lopper is your new favorite thing!  \nGrab a copy then or on SATURDAY\nto have Andrew sign it up for you! \nWe will have copies of Head Lopper comics and graphic novels available here\, but you are welcome to bring the copies you already have as well. \nACME COMICS 2150 LAWNDALE DRIVE \nGREENSBORO NC 27408\nNOON-5PM\nSIGNATURES AND CONVERSATION\nARE FREE! \n 
URL:https://acmecomics.com/event/saturday-april-25-2026-andrew-maclean-meet-greet/
ATTACH;FMTTYPE=image/jpeg:https://acmecomics.com/wp-content/uploads/2026/04/IMG_5347.jpg
END:VEVENT
END:VCALENDAR